BEGIN:VCALENDAR
VERSION:2.0
PRODID:-//Afton Area Business Association - ECPv4.6.9//NONSGML v1.0//EN
CALSCALE:GREGORIAN
METHOD:PUBLISH
X-WR-CALNAME:Afton Area Business Association
X-ORIGINAL-URL:https://exploreafton.com
X-WR-CALDESC:Events for Afton Area Business Association
BEGIN:VEVENT
DTSTART;TZID=America/Chicago:20160421T170000
DTEND;TZID=America/Chicago:20160421T200000
DTSTAMP:20260419T214321
CREATED:20160210T212939Z
LAST-MODIFIED:20160210T212939Z
UID:2691-1461258000-1461268800@exploreafton.com
SUMMARY:Ultimate Girls Night Out!
DESCRIPTION:Ultimate Girls Night Out in Afton! \nBring your gal pals to Swirl Wine Bar for a free wine tasting\, prize drawings and food & drink discounts at CURRENT Restaurant.  Stop in at Eye Candy to see all the latest vintage items for sale!  Pick up some great deals. \nPrize drawings are valued at $25 and more………………… \nEnjoy shopping with our special vendors!  To be announced: \nFor more information call 651-436-8883 \n
URL:https://exploreafton.com/event/ultimate-girls-night-out-5/
LOCATION:Afton\, 55001\, United States
END:VEVENT
END:VCALENDAR