BEGIN:VCALENDAR
VERSION:2.0
PRODID:-//Afton Area Business Association - ECPv4.6.9//NONSGML v1.0//EN
CALSCALE:GREGORIAN
METHOD:PUBLISH
X-WR-CALNAME:Afton Area Business Association
X-ORIGINAL-URL:https://exploreafton.com
X-WR-CALDESC:Events for Afton Area Business Association
BEGIN:VEVENT
DTSTART;TZID=America/Chicago:20160401T090000
DTEND;TZID=America/Chicago:20160401T200000
DTSTAMP:20260419T232023
CREATED:20160210T210124Z
LAST-MODIFIED:20160210T210124Z
UID:2688-1459501200-1459540800@exploreafton.com
SUMMARY:Selma's Open for the Season
DESCRIPTION:Selma’s Ice Cream Parlour is open for the Season! \nStop in this Season for fantastic ice cream flavors\, candy\, cofee and more…………. \n  \n
URL:https://exploreafton.com/event/selmas-open-for-the-season/
END:VEVENT
END:VCALENDAR