BEGIN:VCALENDAR
VERSION:2.0
PRODID:-//Afton Area Business Association - ECPv4.6.9//NONSGML v1.0//EN
CALSCALE:GREGORIAN
METHOD:PUBLISH
X-WR-CALNAME:Afton Area Business Association
X-ORIGINAL-URL:https://exploreafton.com
X-WR-CALDESC:Events for Afton Area Business Association
BEGIN:VEVENT
DTSTART;TZID=America/Chicago:20180421T110000
DTEND;TZID=America/Chicago:20180421T140000
DTSTAMP:20260420T063359
CREATED:20180313T193015Z
LAST-MODIFIED:20180414T194218Z
UID:4150-1524308400-1524319200@exploreafton.com
SUMMARY:Baglio's of Afton Spring Style Show
DESCRIPTION:Baglio’s Spring Style Show requires reservations.\nCall Lisa for details  651-436-1506\nOr email: billisa2005@comcast.net \n  \n
URL:https://exploreafton.com/event/baglios-of-afton-spring-style-show/
LOCATION:3291 Saint Croix Trl S\, Afton\, MN\, 55001\, United States
END:VEVENT
END:VCALENDAR