BEGIN:VCALENDAR
VERSION:2.0
PRODID:-//Afton Area Business Association - ECPv4.6.9//NONSGML v1.0//EN
CALSCALE:GREGORIAN
METHOD:PUBLISH
X-WR-CALNAME:Afton Area Business Association
X-ORIGINAL-URL:https://exploreafton.com
X-WR-CALDESC:Events for Afton Area Business Association
BEGIN:VEVENT
DTSTART;TZID=America/Chicago:20150912T100000
DTEND;TZID=America/Chicago:20150913T180000
DTSTAMP:20260420T022629
CREATED:20150518T203047Z
LAST-MODIFIED:20150518T203926Z
UID:2186-1442052000-1442167200@exploreafton.com
SUMMARY:Afton Apple Anniversary Weekend 
DESCRIPTION:Sept 12 & 13\, 2015 10am to 6pm each day\nWebsite: aftonapple.com\nEmail: aftonapple@aol.com\n651-436-8385\nCelebrating our anniversary! Dock Dogs\, bounce house\, magician\, petting farm\, playground\, straw mountain\, retread hill\, hayrides\, concessions and lots of other apple time favorites!  \n
URL:https://exploreafton.com/event/afton-apple-anniversary-weekend/
LOCATION:9225 St. Croix Trail S.\, Hastings\, MN\, 55033
END:VEVENT
END:VCALENDAR